BEGIN:VCALENDAR
VERSION:2.0
PRODID:-//https://svenskahobbyklubben.se///NONSGML kigkonsult.se iCalcreator 2.10.15//
METHOD:PUBLISH
BEGIN:VEVENT
UID:20260420T063540CEST-7140e2pomf@https://svenskahobbyklubben.se/
DTSTAMP:20260420T043540Z
DESCRIPTION:ANMÄLAN STÄNGD!\nVarmt välkommen på Vårträff 13 maj - 17 maj i 
 Vadstena!\nNu har vi öppnat anmälan och bokning av platser till Vårträffen
  2026\, denna gången genomförs träffen på First Camp Vadstena - Vättern.\n
 Vi hälsar alla medlemmar hjärtligt välkommen till en träff som bjuder på t
 revligt samkväm och roliga utomhusaktiviteter som är anpassade för stora s
 om små.\nKort om programmet:\nPå torsdagskvällen arrangerar klubben en Väl
 komstmiddag för 2 vuxna personer\, och är ni fler personer anmäl er för 'E
 xtra mat' som kostar: 175:-/vuxen person\, och 125:-/barn(under 10 år)\nUn
 der Lördagen arrangeras traditionellt också Svenska Hobbyklubbens årsmöte 
 där du som medlem kan vara med och påverka föreningen. Detta behöver du an
 mäla dig på ett separat evenemang.\nKostnad: 2200 kr /ekipage. Campingplat
 s med el för alla dagar inkl. välkomstmiddag\, samt fika på årsmötet för 2
  personer.\nSista anmälningsdag:  31 mars. \nAntal tillgängliga platser: 3
 5 40 platser (med el) - först till kvarn gäller vid bokning!\nAvbokning: A
 vbokningar återbetalas i sin helhet om de görs senast den 31 mars\, däreft
 er endast vid  giltiga skäl(sjukdom\, extra ordinära omständigheter)Om Sve
 nska Hobbyklubben ställer in arrangemanget återbetalas också samtliga avgi
 fter.\nNYTT! Vi erbjuder flera olika betalningssätt med stöd av STRIPE.\nM
 edlemskap: aktivt medlemskap krävs\nGå med i vår Facebookgrupp:\nSHK VÅRTR
 ÄFF 2026 \n \nLite mer info om campingen: \n\nFirst Camp Vadstena – Vätter
 n\, en pärla vid Vätterns glittrande strand! Här väntar en campingsemester
  med vackra vyer\, svalkande bad och mysiga stunder tillsammans. Med läget
  bara ett par kilometer norr om den charmiga klosterstaden Vadstena bjuder
  campingen på det bästa av två världar – lugnet vid sjön och stadens histo
 riska skatter inom cykelavstånd.\n  \nCampingen ligger alldeles intill Vät
 terns strand och många av tomterna och stugorna har fantastisk sjöutsikt. 
 För dig som kommer med husvagn\, husbil eller tält finns närmare 400 campi
 ngtomter att välja bland\, flera ligger precis vid strandkanten. Vill du b
 o i stuga finns mysiga små campingstugor och större stugor med plats för u
 pp till sex personer. Flera stugor har egen terrass som passar perfekt att
  avsluta dagen på när kvällen kommer och himlen färgas rosa över sjön.\n  
 \nGillar du aktiviteter på semestern finns gott om möjligheter: spela beac
 hvolley på sandplanen\, testa balansen på hinderbanan eller ta ett hopp på
  den stora hoppkudden. Vid den populära badplatsen Vätterviksbadet\, som l
 igger mitt i campingen\, väntar långgrund sandstrand\, perfekta för både s
 må och stora badälskare.\n  \nVill du ut på vattnet kan du hyra kajak elle
 r SUP och uppleva Vättern från sin allra vackraste sida. Efter en dag full
  av äventyr lockar den sommaröppna restaurangen nere vid vattnet med god m
 at och utsikt som gör måltiden extra minnesvärd.\n  \nFör dig som vill upp
 täcka mer ligger Vadstena bara några minuter bort. Strosa bland kullersten
 sgatorna\, besök det storslagna Vadstena slott\, klosterområdet och charmi
 ga små butiker och caféer. Här väntar historia\, kultur och småstadsidyll!
  Varmt välkommen till First Camp Vadstena – Vättern!\n https://svenskahobb
 yklubben.se/traffar/evenemang/22-vartraeffen-2026
DTSTART:20260513T100000Z
DTEND:20260517T100000Z
LOCATION:First Camp Vadstena - Vättern (Tegellöten 202\, 592 94 Vadstena)
SUMMARY:Vårträffen 2026
URL:https://svenskahobbyklubben.se/traffar/evenemang/22-vartraeffen-2026
END:VEVENT
END:VCALENDAR
