BEGIN:VCALENDAR
VERSION:2.0
PRODID:-//https://svenskahobbyklubben.se///NONSGML kigkonsult.se iCalcreator 2.10.15//
METHOD:PUBLISH
BEGIN:VEVENT
UID:20260420T062720CEST-9323H4t2u1@https://svenskahobbyklubben.se/
DTSTAMP:20260420T042720Z
DESCRIPTION:Årsmöte 2026\nLördagen den 16 maj klockan 13.00 under vårträffe
 n på First Camp Vadstena - Vättern arrangeras Svenska Hobbyklubbens årsmöt
 e.\nPlats: ESO\nEndast 1 person(medlem) per ekipage kan deltaga mötet för 
 att möjliggöra att så många medlemmar som möjligt ska kunna deltaga.\nSena
 ste datum för deltagande är: 10 Maj\nDet är under detta möte som du som me
 dlem kan påverka styrelsens sammansättning\, lyfta förslag på hur klubben 
 kan utvecklas eller andra idéer som du tycker att klubben bör satsa på.För
  att just ditt förslag ska behandlas på årsmötet ska det skickas in skrift
 ligen till styrelsen senast fyra veckor innan mötet. I detta fall ska moti
 oner sändas in senast 17 april till ordf@svenskahobbyklubben.se\nÅrsmötesh
 andlingar 2026 kan laddas ner här nedan:\n(Du måste vara inloggad!)\n http
 s://svenskahobbyklubben.se/traffar/evenemang/23-arsmoete-svenska-hobbyklub
 ben-2026
DTSTART:20260516T110000Z
DTEND:20260516T120000Z
LOCATION:First Camp Vadstena - Vättern (Tegellöten 202\, 592 94 Vadstena)
SUMMARY:Årsmöte Svenska Hobbyklubben 2026
URL:https://svenskahobbyklubben.se/traffar/evenemang/23-arsmoete-svenska-ho
 bbyklubben-2026
END:VEVENT
END:VCALENDAR
