BEGIN:VCALENDAR
VERSION:2.0
PRODID:-//https://svenskahobbyklubben.se///NONSGML kigkonsult.se iCalcreator 2.10.15//
METHOD:PUBLISH
BEGIN:VEVENT
UID:20260420T063408CEST-2061MV5Hlj@https://svenskahobbyklubben.se/
DTSTAMP:20260420T043408Z
DESCRIPTION:Höstträff Elmia 2026 \nVi har öppnat anmälan till Svenska Hobby
 klubbens Höstträffen 2026 som går av stapeln 9-13 september i Elmia\, Jönk
 öping i samband med mässan Elmia Husvagn Husbil\nDet finns begränsat plats
 er så anmäl dig snarast!\nAvgiften för denna träff är 2045:- och då ingår 
 plats med el i ”Hobby-byn”\, samkväm med taco foodtruck under fredagen och
  en gemensam måltid under lördagen samt självklart inträde till mässans al
 la dagar för en familj(2 vuxna\, 2 barn upp till 15år) och aktiviteter på 
 mässområdet.\nBra att veta:\n\n”Hobby-byn” är det endast tillåtet med märk
 et Hobby husbil\, husvagn. Skulle en medlem låna eller byta till annat mär
 ke än Hobby faller bokningen.\nPlatserna fördelas utifrån ankomsttid och ä
 r ca 10x5m och belägna i område 1.\nMarkis eller förtält är förbjudet.\nVa
 ttenpost\, latrintömning och WC finns på området. Möjlighet till dusch fin
 ns under vissa tider.\n\nSista anmälningsdag är: 12 augusti\nBiljetter ski
 ckas ut per post när vi fått dessa av arrangören.\nAvbokning och återbetal
 ning kan ske om det inte skapar några merkostnader för föreningen. T ex om
  någon på väntelista övertar platsen eller campingen/arrangören inte kräve
 r betalt för avbokad plats.\nMer om mässan:\nhttps://www.elmia.se/husvagn/
 for-besokare/vad-hander-pa-massan/\n\n \nGå med i Facebook gruppen:\nSHK H
 ÖSTTRÄFF 2026\n https://svenskahobbyklubben.se/traffar/evenemang/24-hoestt
 raeff-elmia-husvagn-husbil-2026
DTSTART:20260909T100000Z
DTEND:20260913T130000Z
LOCATION:Elmiamässan\, Jönköping (Elmiavägen 15\, 554 54 Jönköping)
SUMMARY:Höstträff Elmia Husvagn Husbil 2026
URL:https://svenskahobbyklubben.se/traffar/evenemang/24-hoesttraeff-elmia-h
 usvagn-husbil-2026
END:VEVENT
END:VCALENDAR
